BEGIN:VCALENDAR
VERSION:2.0
PRODID:-//Independent Electrical Contractors Chesapeake - ECPv6.15.20//NONSGML v1.0//EN
CALSCALE:GREGORIAN
METHOD:PUBLISH
X-ORIGINAL-URL:https://www.iecchesapeake.com
X-WR-CALDESC:Events for Independent Electrical Contractors Chesapeake
REFRESH-INTERVAL;VALUE=DURATION:PT1H
X-Robots-Tag:noindex
X-PUBLISHED-TTL:PT1H
BEGIN:VTIMEZONE
TZID:UTC
BEGIN:STANDARD
TZOFFSETFROM:+0000
TZOFFSETTO:+0000
TZNAME:UTC
DTSTART:20240101T000000
END:STANDARD
END:VTIMEZONE
BEGIN:VTIMEZONE
TZID:America/New_York
BEGIN:DAYLIGHT
TZOFFSETFROM:-0500
TZOFFSETTO:-0400
TZNAME:EDT
DTSTART:20190310T070000
END:DAYLIGHT
BEGIN:STANDARD
TZOFFSETFROM:-0400
TZOFFSETTO:-0500
TZNAME:EST
DTSTART:20191103T060000
END:STANDARD
BEGIN:DAYLIGHT
TZOFFSETFROM:-0500
TZOFFSETTO:-0400
TZNAME:EDT
DTSTART:20200308T070000
END:DAYLIGHT
BEGIN:STANDARD
TZOFFSETFROM:-0400
TZOFFSETTO:-0500
TZNAME:EST
DTSTART:20201101T060000
END:STANDARD
BEGIN:DAYLIGHT
TZOFFSETFROM:-0500
TZOFFSETTO:-0400
TZNAME:EDT
DTSTART:20210314T070000
END:DAYLIGHT
BEGIN:STANDARD
TZOFFSETFROM:-0400
TZOFFSETTO:-0500
TZNAME:EST
DTSTART:20211107T060000
END:STANDARD
BEGIN:DAYLIGHT
TZOFFSETFROM:-0500
TZOFFSETTO:-0400
TZNAME:EDT
DTSTART:20220313T070000
END:DAYLIGHT
BEGIN:STANDARD
TZOFFSETFROM:-0400
TZOFFSETTO:-0500
TZNAME:EST
DTSTART:20221106T060000
END:STANDARD
BEGIN:DAYLIGHT
TZOFFSETFROM:-0500
TZOFFSETTO:-0400
TZNAME:EDT
DTSTART:20230312T070000
END:DAYLIGHT
BEGIN:STANDARD
TZOFFSETFROM:-0400
TZOFFSETTO:-0500
TZNAME:EST
DTSTART:20231105T060000
END:STANDARD
BEGIN:DAYLIGHT
TZOFFSETFROM:-0500
TZOFFSETTO:-0400
TZNAME:EDT
DTSTART:20240310T070000
END:DAYLIGHT
BEGIN:STANDARD
TZOFFSETFROM:-0400
TZOFFSETTO:-0500
TZNAME:EST
DTSTART:20241103T060000
END:STANDARD
BEGIN:DAYLIGHT
TZOFFSETFROM:-0500
TZOFFSETTO:-0400
TZNAME:EDT
DTSTART:20250309T070000
END:DAYLIGHT
BEGIN:STANDARD
TZOFFSETFROM:-0400
TZOFFSETTO:-0500
TZNAME:EST
DTSTART:20251102T060000
END:STANDARD
END:VTIMEZONE
BEGIN:VEVENT
DTSTART;TZID=UTC:20250213T070000
DTEND;TZID=UTC:20250213T140000
DTSTAMP:20260421T072943
CREATED:20241210T145033Z
LAST-MODIFIED:20250204T200906Z
UID:10003040-1739430000-1739455200@www.iecchesapeake.com
SUMMARY:Changes to the 2023 NEC
DESCRIPTION:A 5 hour live class \nFebruary 13th\, 2025\n7:00 AM – 2:00 PM\, EST \n  \n**CLASS TO BE RESCHEDULED** \n \nBased off the Nationally-Recognized Course developed by Mike Holt\, IEC Chesapeake’s Changes to the NEC will provide you with an incredible understanding of how the 2023 NEC changes will affect your company. \nOur course conveniently fits into your work-week! Only one day totaling 5 hours. \nMeets Master Electrical License Renewal Requirements of 5 hours for MD\, DE\, NJ\, and 4 hours for NC. \nNot approved for Virginia.  \nProudly Sponsored by:\n\nCost\n\nEarly Registration: $247.50\nStandard Registration: $275.00\nMembers receive 25% discount\n\nCancellation deadline is 14 business days prior to seminar. All cancellations received after deadline and/or no-shows will be billed and/or are non-refundable. IEC Chesapeake A&T has the right to cancel class if less than 15 students register. \nABOUT THE INSTRUCTOR\nVince Della Croce\, Master Electrician who currently serves as Business Development Manager with Siemens. \n Della Croce has previously worked as Resident Compliance Specialist\, Electrical Apprentice Instructor\, Quality Auditor and Field Inspection Examiner while in the electrical industry.   \n Vince is also a proud graduate of Penn Foster University where he obtained his degree in Electrical Engineering & Electrical Maintenance Technology.
URL:https://www.iecchesapeake.com/event/changes-to-the-2023-nec/
LOCATION:Lower Workforce Alliance\, 31901 Tri-County Way Suite 102\, Salisbury\, 21804\, United States
CATEGORIES:Continuing Education,General Events
END:VEVENT
BEGIN:VEVENT
DTSTART;TZID=America/New_York:20241205T160000
DTEND;TZID=America/New_York:20241205T190000
DTSTAMP:20260421T072943
CREATED:20241105T152311Z
LAST-MODIFIED:20241105T152456Z
UID:10002268-1733414400-1733425200@www.iecchesapeake.com
SUMMARY:Holiday Brewery Event
DESCRIPTION:Holiday Brewery Event\nGenerously Sponsored by Home Depot Pro\nAsk us how to register! \n 
URL:https://www.iecchesapeake.com/event/holiday-brewery-event/
LOCATION:IEC Chesapeake\, 8751 Freestate Drive\, Suite 250\, Laurel\, MD\, 20723\, United States
CATEGORIES:General Events
END:VEVENT
BEGIN:VEVENT
DTSTART;TZID=America/New_York:20231004T080000
DTEND;TZID=America/New_York:20231004T160000
DTSTAMP:20260421T072943
CREATED:20230912T170111Z
LAST-MODIFIED:20241028T150142Z
UID:10001864-1696406400-1696435200@www.iecchesapeake.com
SUMMARY:Run the Gauntlet - Virginia Golf Event
DESCRIPTION:Use this link to hit the links! \nhttps://iecchesapeake.ticketspice.com/run-the-gauntlet-virginia-golf \n IECC 1st Annual VA Golf Tournament\n October 4\, 2023\n \nGauntlet Golf Club\n18 Fairway Drive\nFredericksburg\, VA 22406
URL:https://www.iecchesapeake.com/event/run-the-gauntlet-virginia-golf-event/
LOCATION:Gauntlet Golf Club\, 18 Fairway Drive\, Frederickburg\, VA\, 22406
CATEGORIES:General Events
END:VEVENT
BEGIN:VEVENT
DTSTART;TZID=America/New_York:20230926T160000
DTEND;TZID=America/New_York:20230926T190000
DTSTAMP:20260421T072943
CREATED:20210613T150823Z
LAST-MODIFIED:20241028T150155Z
UID:10000948-1695744000-1695754800@www.iecchesapeake.com
SUMMARY:IECC 2023 Fall Brewery Event
DESCRIPTION:Fall Brewery Event\n \nThank you to our generous Sponsors: Siemens and BILT \n\nWhere: Hysteria Brewing Co.\, Columbia\, MD\nWhen: September 26th\, 4 – 7 PM\nPrice:\n\nMember Ticket ($40.00) [Limited to 100 attendees]\nTicket price includes two beverages and dinner for one person\nLimited to 4 attendees per company\nNon Member Ticket ($45.00)\nTicket price includes two beverages and dinner for one person\n\n\n\n  \nREGISTER
URL:https://www.iecchesapeake.com/event/iecc-2023-fall-brewery-event/
LOCATION:Hysteria Brewing Co.\, 9570 Berger Road Suite J\, Columbia\, MD\, 21044
CATEGORIES:General Events
ATTACH;FMTTYPE=image/png:https://www.iecchesapeake.com/wp-content/uploads/2021/06/27870_1689691916422-1689691916422.png
END:VEVENT
BEGIN:VEVENT
DTSTART;TZID=America/New_York:20201030T080000
DTEND;TZID=America/New_York:20201030T170000
DTSTAMP:20260421T072943
CREATED:20200822T170156Z
LAST-MODIFIED:20220914T223147Z
UID:10001007-1604044800-1604077200@www.iecchesapeake.com
SUMMARY:IEC Convention Expo 2020
DESCRIPTION:Powering Your Future From the Safety of Your Home\n2020 has been a tough year for all of us\, but as we approach Fall\, IEC has something planned that offers the comradery and excitement you’ve been missing. \nAre you ready for something truly special? \nIEC is excited to invite you and all merit shop contractors throughout America to join us for the first-ever IEC Virtual Convention & Expo 2020\, delivered online and directly to your doorstep. \nRegister now to save your spot for a completely new\, state-of-the-art\, immersive\, and interactive experience that will include the top-notch education sessions\, exciting special events\, critical networking\, and vibrant expo hall you’ve come to expect from IEC Convention & Expo – all in a modern and easy to navigate virtual platform. \nREGISTER NOW\n 
URL:https://www.iecchesapeake.com/event/iec-convention-expo-2020/2020-10-30/
LOCATION:Online\, MD\, United States
CATEGORIES:General Events
ATTACH;FMTTYPE=image/png:https://www.iecchesapeake.com/wp-content/uploads/2020/08/IEC-National-Convention.png
END:VEVENT
BEGIN:VEVENT
DTSTART;TZID=America/New_York:20201029T080000
DTEND;TZID=America/New_York:20201029T170000
DTSTAMP:20260421T072943
CREATED:20200822T170156Z
LAST-MODIFIED:20220914T223147Z
UID:10001006-1603958400-1603990800@www.iecchesapeake.com
SUMMARY:IEC Convention Expo 2020
DESCRIPTION:Powering Your Future From the Safety of Your Home\n2020 has been a tough year for all of us\, but as we approach Fall\, IEC has something planned that offers the comradery and excitement you’ve been missing. \nAre you ready for something truly special? \nIEC is excited to invite you and all merit shop contractors throughout America to join us for the first-ever IEC Virtual Convention & Expo 2020\, delivered online and directly to your doorstep. \nRegister now to save your spot for a completely new\, state-of-the-art\, immersive\, and interactive experience that will include the top-notch education sessions\, exciting special events\, critical networking\, and vibrant expo hall you’ve come to expect from IEC Convention & Expo – all in a modern and easy to navigate virtual platform. \nREGISTER NOW\n 
URL:https://www.iecchesapeake.com/event/iec-convention-expo-2020/2020-10-29/
LOCATION:Online\, MD\, United States
CATEGORIES:General Events
ATTACH;FMTTYPE=image/png:https://www.iecchesapeake.com/wp-content/uploads/2020/08/IEC-National-Convention.png
END:VEVENT
BEGIN:VEVENT
DTSTART;TZID=America/New_York:20201028T080000
DTEND;TZID=America/New_York:20201028T170000
DTSTAMP:20260421T072943
CREATED:20200822T170156Z
LAST-MODIFIED:20220914T223147Z
UID:10001005-1603872000-1603904400@www.iecchesapeake.com
SUMMARY:IEC Convention Expo 2020
DESCRIPTION:Powering Your Future From the Safety of Your Home\n2020 has been a tough year for all of us\, but as we approach Fall\, IEC has something planned that offers the comradery and excitement you’ve been missing. \nAre you ready for something truly special? \nIEC is excited to invite you and all merit shop contractors throughout America to join us for the first-ever IEC Virtual Convention & Expo 2020\, delivered online and directly to your doorstep. \nRegister now to save your spot for a completely new\, state-of-the-art\, immersive\, and interactive experience that will include the top-notch education sessions\, exciting special events\, critical networking\, and vibrant expo hall you’ve come to expect from IEC Convention & Expo – all in a modern and easy to navigate virtual platform. \nREGISTER NOW\n 
URL:https://www.iecchesapeake.com/event/iec-convention-expo-2020/2020-10-28/
LOCATION:Online\, MD\, United States
CATEGORIES:General Events
ATTACH;FMTTYPE=image/png:https://www.iecchesapeake.com/wp-content/uploads/2020/08/IEC-National-Convention.png
END:VEVENT
BEGIN:VEVENT
DTSTART;TZID=America/New_York:20200508T133000
DTEND;TZID=America/New_York:20200508T143000
DTSTAMP:20260421T072943
CREATED:20200501T205413Z
LAST-MODIFIED:20200501T205413Z
UID:10000937-1588944600-1588948200@www.iecchesapeake.com
SUMMARY:LED Solar
DESCRIPTION:When running electrical or a complete engineered solar lighting system is not in the budget with Light Efficient Design’s David Gershaw’s Chief Innovation Officer \nFriday\, May 8th\n1:30 PM – 2:30 PM \nRegister
URL:https://www.iecchesapeake.com/event/led-solar/
LOCATION:IEC Chesapeake\, 8751 Freestate Drive\, Suite 250\, Laurel\, MD\, 20723\, United States
CATEGORIES:General Events
END:VEVENT
BEGIN:VEVENT
DTSTART;TZID=America/New_York:20200507T133000
DTEND;TZID=America/New_York:20200507T143000
DTSTAMP:20260421T072943
CREATED:20200501T205237Z
LAST-MODIFIED:20200501T205237Z
UID:10000936-1588858200-1588861800@www.iecchesapeake.com
SUMMARY:LED Innovative
DESCRIPTION:Solutions that save installation time and energy consumption with Light Efficient Design’s Nate Dennis\, LC IES Director of Energy and Project Sales \nThursday\, May 7th\n1:30 PM – 2:30 PM \nRegister
URL:https://www.iecchesapeake.com/event/led-innovative/
LOCATION:IEC Chesapeake\, 8751 Freestate Drive\, Suite 250\, Laurel\, MD\, 20723\, United States
CATEGORIES:General Events
END:VEVENT
BEGIN:VEVENT
DTSTART;TZID=America/New_York:20200506T133000
DTEND;TZID=America/New_York:20200506T143000
DTSTAMP:20260421T072943
CREATED:20200501T205130Z
LAST-MODIFIED:20200501T205314Z
UID:10000935-1588771800-1588775400@www.iecchesapeake.com
SUMMARY:LED Retrofit
DESCRIPTION:Basic LED lighting terminology\, wattage/energy savings\, updating existing fixtures with led lighting with Light Efficient Design’s VP of Marketing Doug Knebelsberger and North East Regional Manager Mario Luna. \nWednesday\, May 6th\n1:30 PM– 2:30 PM \nRegister
URL:https://www.iecchesapeake.com/event/led-retrofit/
LOCATION:IEC Chesapeake\, 8751 Freestate Drive\, Suite 250\, Laurel\, MD\, 20723\, United States
CATEGORIES:General Events
END:VEVENT
BEGIN:VEVENT
DTSTART;TZID=America/New_York:20200504T110000
DTEND;TZID=America/New_York:20200504T120000
DTSTAMP:20260421T072943
CREATED:20200430T170548Z
LAST-MODIFIED:20200430T170548Z
UID:10000934-1588590000-1588593600@www.iecchesapeake.com
SUMMARY:Webinar - Electrical Firestop Sales
DESCRIPTION:IECC\, partnering with Associate Partner Colerick Electrical Sales\, is offering you a series.\nA series of electrical education and information sessions\, free of charge\, via Zoom\, from manufacturers such as Encore Wire\, Intermatic\, and STI Firestop- to name a few. \n \nNext up in the series is: \nElectrical Firestop Sales – May 4\, 2020\, at 11:00 AM EST \n\nPlease join David Augello\, Specified Technologies\, Inc’s Northeast Regional Manager for a webinar on Electrical Firestop Sales.\nThe topic that will be covered:\nWho is Specified Technologies Inc. (STI Firestop)\nWhat is Firestop\nWhere/When do we firestop\nWhy do we firestop\nHow do we firestop\nProblems & Solutions\nHow can STI help\nQ&A\n\nYour Zoom link to register for the free STI Firestop webinar is: https://stifirestop.zoom.us/webinar/register/WN_zYY1WriyRKmCtcdgUmB5xQ \nIECC Members have the first crack at registration; after May 1 we will post to the public via our digital platforms.
URL:https://www.iecchesapeake.com/event/webinar-electrical-firestop-sales/
LOCATION:IEC Chesapeake\, 8751 Freestate Drive\, Suite 250\, Laurel\, MD\, 20723\, United States
CATEGORIES:General Events
END:VEVENT
END:VCALENDAR