BEGIN:VCALENDAR
VERSION:2.0
PRODID:-//Independent Electrical Contractors Chesapeake - ECPv6.15.20//NONSGML v1.0//EN
CALSCALE:GREGORIAN
METHOD:PUBLISH
X-ORIGINAL-URL:https://www.iecchesapeake.com
X-WR-CALDESC:Events for Independent Electrical Contractors Chesapeake
REFRESH-INTERVAL;VALUE=DURATION:PT1H
X-Robots-Tag:noindex
X-PUBLISHED-TTL:PT1H
BEGIN:VTIMEZONE
TZID:America/New_York
BEGIN:DAYLIGHT
TZOFFSETFROM:-0500
TZOFFSETTO:-0400
TZNAME:EDT
DTSTART:20190310T070000
END:DAYLIGHT
BEGIN:STANDARD
TZOFFSETFROM:-0400
TZOFFSETTO:-0500
TZNAME:EST
DTSTART:20191103T060000
END:STANDARD
BEGIN:DAYLIGHT
TZOFFSETFROM:-0500
TZOFFSETTO:-0400
TZNAME:EDT
DTSTART:20200308T070000
END:DAYLIGHT
BEGIN:STANDARD
TZOFFSETFROM:-0400
TZOFFSETTO:-0500
TZNAME:EST
DTSTART:20201101T060000
END:STANDARD
BEGIN:DAYLIGHT
TZOFFSETFROM:-0500
TZOFFSETTO:-0400
TZNAME:EDT
DTSTART:20210314T070000
END:DAYLIGHT
BEGIN:STANDARD
TZOFFSETFROM:-0400
TZOFFSETTO:-0500
TZNAME:EST
DTSTART:20211107T060000
END:STANDARD
END:VTIMEZONE
BEGIN:VEVENT
DTSTART;TZID=America/New_York:20201209T080000
DTEND;TZID=America/New_York:20201209T153000
DTSTAMP:20260423T053151
CREATED:20201117T180022Z
LAST-MODIFIED:20201117T180022Z
UID:10000945-1607500800-1607527800@www.iecchesapeake.com
SUMMARY:NFPA 70E Electrical Safe Work Practices
DESCRIPTION:Course Overview: \nThis course meets the requirements of training as defined by OSHA and NFPA 70E for the “Qualified Person” in NFPA 70E\, Chapter 1\, Article 110.2 and OSHA 1910.332. \nClass Topics\n• OSHA & NFPA 70E\n• Electrical Energy Hazard- Shock\, Arc & Blast\n• How to Identify Electrical Hazards\n• Approach Boundaries\n• Safe Approach Distances\n• Warning Labels\n• Shock & Arc Flash Risk Assessments\n• PPE Selection\n• PPE Use and Maintenance\n• Employer Responsibilities\n• Employee Responsibilities\n• Conditions of Live Electrical Work Authorization\n• Energized Electrical Work Permits\n• Lockout/Tagout Procedure\n• Proper Testing Equipment and Accessories\n• Emergency Response Planning\n• Overview for 2021 Major Changes to 70E Standard\n• Certificate of Completion \nAbout the Instructor\nSteve High is a Certified Safety Professional (CSP) and Certified Industrial\nHygienist (CIH) with over 30 years experience. He holds a Masters in Public\nHealth from John Hopkins and a Masters in Safety Science from Indiana\nUniversity of Pennsylvania. \nTo Register\nContact Julie Rosa at 302.324.3370 or\nemail education@unitedelectric.com or \nRegister Online\n 
URL:https://www.iecchesapeake.com/event/nfpa-70e-electrical-safe-work-practices/
LOCATION:IEC Chesapeake\, 8751 Freestate Drive\, Suite 250\, Laurel\, MD\, 20723\, United States
END:VEVENT
END:VCALENDAR