BEGIN:VCALENDAR
VERSION:2.0
PRODID:-//Independent Electrical Contractors Chesapeake - ECPv6.15.20//NONSGML v1.0//EN
CALSCALE:GREGORIAN
METHOD:PUBLISH
X-WR-CALNAME:Independent Electrical Contractors Chesapeake
X-ORIGINAL-URL:https://www.iecchesapeake.com
X-WR-CALDESC:Events for Independent Electrical Contractors Chesapeake
REFRESH-INTERVAL;VALUE=DURATION:PT1H
X-Robots-Tag:noindex
X-PUBLISHED-TTL:PT1H
BEGIN:VTIMEZONE
TZID:America/New_York
BEGIN:DAYLIGHT
TZOFFSETFROM:-0500
TZOFFSETTO:-0400
TZNAME:EDT
DTSTART:20220313T070000
END:DAYLIGHT
BEGIN:STANDARD
TZOFFSETFROM:-0400
TZOFFSETTO:-0500
TZNAME:EST
DTSTART:20221106T060000
END:STANDARD
BEGIN:DAYLIGHT
TZOFFSETFROM:-0500
TZOFFSETTO:-0400
TZNAME:EDT
DTSTART:20230312T070000
END:DAYLIGHT
BEGIN:STANDARD
TZOFFSETFROM:-0400
TZOFFSETTO:-0500
TZNAME:EST
DTSTART:20231105T060000
END:STANDARD
BEGIN:DAYLIGHT
TZOFFSETFROM:-0500
TZOFFSETTO:-0400
TZNAME:EDT
DTSTART:20240310T070000
END:DAYLIGHT
BEGIN:STANDARD
TZOFFSETFROM:-0400
TZOFFSETTO:-0500
TZNAME:EST
DTSTART:20241103T060000
END:STANDARD
END:VTIMEZONE
BEGIN:VEVENT
DTSTART;TZID=America/New_York:20230603T110000
DTEND;TZID=America/New_York:20230603T150000
DTSTAMP:20260423T032253
CREATED:20220128T201331Z
LAST-MODIFIED:20230502T135705Z
UID:10000966-1685790000-1685804400@www.iecchesapeake.com
SUMMARY:IECC Graduation
DESCRIPTION:38th Annual Apprenticeship Graduation Ceremony \n\n\n\nTHANK YOU! Event Sponsors of the 2023 IEC Chesapeake Apprenticeship Graduation \n\n\n\n\n\n \n \nGraduate Shirt Sponsor of the 2023 IEC Chesapeake Apprenticeship Graduation \n \n 
URL:https://www.iecchesapeake.com/event/iecc-graduation/
LOCATION:IEC Chesapeake\, 8751 Freestate Drive\, Suite 250\, Laurel\, MD\, 20723\, United States
END:VEVENT
END:VCALENDAR