BEGIN:VCALENDAR
VERSION:2.0
PRODID:-//Independent Electrical Contractors Chesapeake - ECPv6.15.20//NONSGML v1.0//EN
CALSCALE:GREGORIAN
METHOD:PUBLISH
X-WR-CALNAME:Independent Electrical Contractors Chesapeake
X-ORIGINAL-URL:https://www.iecchesapeake.com
X-WR-CALDESC:Events for Independent Electrical Contractors Chesapeake
REFRESH-INTERVAL;VALUE=DURATION:PT1H
X-Robots-Tag:noindex
X-PUBLISHED-TTL:PT1H
BEGIN:VTIMEZONE
TZID:America/New_York
BEGIN:DAYLIGHT
TZOFFSETFROM:-0500
TZOFFSETTO:-0400
TZNAME:EDT
DTSTART:20220313T070000
END:DAYLIGHT
BEGIN:STANDARD
TZOFFSETFROM:-0400
TZOFFSETTO:-0500
TZNAME:EST
DTSTART:20221106T060000
END:STANDARD
BEGIN:DAYLIGHT
TZOFFSETFROM:-0500
TZOFFSETTO:-0400
TZNAME:EDT
DTSTART:20230312T070000
END:DAYLIGHT
BEGIN:STANDARD
TZOFFSETFROM:-0400
TZOFFSETTO:-0500
TZNAME:EST
DTSTART:20231105T060000
END:STANDARD
BEGIN:DAYLIGHT
TZOFFSETFROM:-0500
TZOFFSETTO:-0400
TZNAME:EDT
DTSTART:20240310T070000
END:DAYLIGHT
BEGIN:STANDARD
TZOFFSETFROM:-0400
TZOFFSETTO:-0500
TZNAME:EST
DTSTART:20241103T060000
END:STANDARD
END:VTIMEZONE
BEGIN:VEVENT
DTSTART;TZID=America/New_York:20230805T080000
DTEND;TZID=America/New_York:20230805T143000
DTSTAMP:20260425T071310
CREATED:20230530T181619Z
LAST-MODIFIED:20230628T143547Z
UID:10001491-1691222400-1691245800@www.iecchesapeake.com
SUMMARY:48 Hour Fire Alarm Class Dulles
DESCRIPTION:A 48 hour course that provides hands-on training.\nCLASS IS POSTPONED. WE WILL RESCHEDULE SOON. \nABC Virginia\n42680 Trade West Drive\nDulles\, VA 20166 \n  \n \nIEC National Fire Alarm Systems Curriculum.  This Course is based on Requirements specified in NFPA’s National Fire Alarm Code (2019)– NFPA 72. \nThis unique and informative course will provide qualified journeyman electricians with the knowledge necessary to work on fire alarm systems. The ESTS Fire Alarm I Course is designed for experienced electricians\, such as those specializing in fire alarm systems and limited energy. Taking the course in conjunction with NFPA 72 (2019) will help prepare installers to sit for NICET certification. \nStudents will need to bring The NFPA 72 (2019) and Hand Tools for Meter to Circuit Testing & Lab Sessions. \nCourse Topics \n\nBasic functions of Fire Alarm systems\nTypes of Fire Alarm systems\nFire Alarm Control Systems\nFire Alarm Control Units\nInitiation Devices\nNotification Devices\nFire Alarm Circuits & Pathways\nSupervising Station Alarm systems\nFire Alarm systems –Inspection\, testing and maintenance\nFalse Alarm Prevention\nCircuit Testing & Lab\nEmergency Communication systems\n\nCost\n\nEarly Registration: $1\,282.50\nStandard Registration: $1\,425.00\nMembers receive 25% discount\n\nCancellation deadline is 14 business days prior to seminar. All cancellations received after deadline and/or no-shows will be billed and/or are non-refundable. IEC Chesapeake A&T has the right to cancel class if less than 12 students register. \nAbout the Instructor:\nBernie Grubb has worked in the fire alarm industry for over 15 years and is NICET Level III certified as well as certified to program Kidde (VS)\, Siemens Desigo\, Silent Knight/Farenhyt\, FireLite\, and Bosch.  His resume includes large commercial install\, troubleshooting\, programming\, maintenance\, design\, project management\, and estimating with experience in  all the major brands; Edwards/Kidde\, Simplex\, Siemens\, Notifier\, Silent Knight/Farenhyt\, FCI Gamewell\, Bosch\, and FireLite.  Additionally Mr. Grubb is knowledgeable in NFPA 70\, NFPA 72\, NFPA 101\, IBC codes and the UL certification processes for fire alarm systems. \n 
URL:https://www.iecchesapeake.com/event/48-hour-fire-alarm-class-dulles/2023-08-05/
LOCATION:ABC Virginia Chapter\, 42680 Trade West Drive\, Dulles\, VA\, 20166
END:VEVENT
BEGIN:VEVENT
DTSTART;TZID=America/New_York:20230812T080000
DTEND;TZID=America/New_York:20230812T143000
DTSTAMP:20260425T071310
CREATED:20230530T181619Z
LAST-MODIFIED:20230628T143547Z
UID:10001492-1691827200-1691850600@www.iecchesapeake.com
SUMMARY:48 Hour Fire Alarm Class Dulles
DESCRIPTION:A 48 hour course that provides hands-on training.\nCLASS IS POSTPONED. WE WILL RESCHEDULE SOON. \nABC Virginia\n42680 Trade West Drive\nDulles\, VA 20166 \n  \n \nIEC National Fire Alarm Systems Curriculum.  This Course is based on Requirements specified in NFPA’s National Fire Alarm Code (2019)– NFPA 72. \nThis unique and informative course will provide qualified journeyman electricians with the knowledge necessary to work on fire alarm systems. The ESTS Fire Alarm I Course is designed for experienced electricians\, such as those specializing in fire alarm systems and limited energy. Taking the course in conjunction with NFPA 72 (2019) will help prepare installers to sit for NICET certification. \nStudents will need to bring The NFPA 72 (2019) and Hand Tools for Meter to Circuit Testing & Lab Sessions. \nCourse Topics \n\nBasic functions of Fire Alarm systems\nTypes of Fire Alarm systems\nFire Alarm Control Systems\nFire Alarm Control Units\nInitiation Devices\nNotification Devices\nFire Alarm Circuits & Pathways\nSupervising Station Alarm systems\nFire Alarm systems –Inspection\, testing and maintenance\nFalse Alarm Prevention\nCircuit Testing & Lab\nEmergency Communication systems\n\nCost\n\nEarly Registration: $1\,282.50\nStandard Registration: $1\,425.00\nMembers receive 25% discount\n\nCancellation deadline is 14 business days prior to seminar. All cancellations received after deadline and/or no-shows will be billed and/or are non-refundable. IEC Chesapeake A&T has the right to cancel class if less than 12 students register. \nAbout the Instructor:\nBernie Grubb has worked in the fire alarm industry for over 15 years and is NICET Level III certified as well as certified to program Kidde (VS)\, Siemens Desigo\, Silent Knight/Farenhyt\, FireLite\, and Bosch.  His resume includes large commercial install\, troubleshooting\, programming\, maintenance\, design\, project management\, and estimating with experience in  all the major brands; Edwards/Kidde\, Simplex\, Siemens\, Notifier\, Silent Knight/Farenhyt\, FCI Gamewell\, Bosch\, and FireLite.  Additionally Mr. Grubb is knowledgeable in NFPA 70\, NFPA 72\, NFPA 101\, IBC codes and the UL certification processes for fire alarm systems. \n 
URL:https://www.iecchesapeake.com/event/48-hour-fire-alarm-class-dulles/2023-08-12/
LOCATION:ABC Virginia Chapter\, 42680 Trade West Drive\, Dulles\, VA\, 20166
END:VEVENT
BEGIN:VEVENT
DTSTART;TZID=America/New_York:20230819T080000
DTEND;TZID=America/New_York:20230819T143000
DTSTAMP:20260425T071310
CREATED:20230530T181619Z
LAST-MODIFIED:20230628T143547Z
UID:10001493-1692432000-1692455400@www.iecchesapeake.com
SUMMARY:48 Hour Fire Alarm Class Dulles
DESCRIPTION:A 48 hour course that provides hands-on training.\nCLASS IS POSTPONED. WE WILL RESCHEDULE SOON. \nABC Virginia\n42680 Trade West Drive\nDulles\, VA 20166 \n  \n \nIEC National Fire Alarm Systems Curriculum.  This Course is based on Requirements specified in NFPA’s National Fire Alarm Code (2019)– NFPA 72. \nThis unique and informative course will provide qualified journeyman electricians with the knowledge necessary to work on fire alarm systems. The ESTS Fire Alarm I Course is designed for experienced electricians\, such as those specializing in fire alarm systems and limited energy. Taking the course in conjunction with NFPA 72 (2019) will help prepare installers to sit for NICET certification. \nStudents will need to bring The NFPA 72 (2019) and Hand Tools for Meter to Circuit Testing & Lab Sessions. \nCourse Topics \n\nBasic functions of Fire Alarm systems\nTypes of Fire Alarm systems\nFire Alarm Control Systems\nFire Alarm Control Units\nInitiation Devices\nNotification Devices\nFire Alarm Circuits & Pathways\nSupervising Station Alarm systems\nFire Alarm systems –Inspection\, testing and maintenance\nFalse Alarm Prevention\nCircuit Testing & Lab\nEmergency Communication systems\n\nCost\n\nEarly Registration: $1\,282.50\nStandard Registration: $1\,425.00\nMembers receive 25% discount\n\nCancellation deadline is 14 business days prior to seminar. All cancellations received after deadline and/or no-shows will be billed and/or are non-refundable. IEC Chesapeake A&T has the right to cancel class if less than 12 students register. \nAbout the Instructor:\nBernie Grubb has worked in the fire alarm industry for over 15 years and is NICET Level III certified as well as certified to program Kidde (VS)\, Siemens Desigo\, Silent Knight/Farenhyt\, FireLite\, and Bosch.  His resume includes large commercial install\, troubleshooting\, programming\, maintenance\, design\, project management\, and estimating with experience in  all the major brands; Edwards/Kidde\, Simplex\, Siemens\, Notifier\, Silent Knight/Farenhyt\, FCI Gamewell\, Bosch\, and FireLite.  Additionally Mr. Grubb is knowledgeable in NFPA 70\, NFPA 72\, NFPA 101\, IBC codes and the UL certification processes for fire alarm systems. \n 
URL:https://www.iecchesapeake.com/event/48-hour-fire-alarm-class-dulles/2023-08-19/
LOCATION:ABC Virginia Chapter\, 42680 Trade West Drive\, Dulles\, VA\, 20166
END:VEVENT
BEGIN:VEVENT
DTSTART;TZID=America/New_York:20230821T170000
DTEND;TZID=America/New_York:20230821T190000
DTSTAMP:20260425T071310
CREATED:20230502T143118Z
LAST-MODIFIED:20230510T195322Z
UID:10001098-1692637200-1692644400@www.iecchesapeake.com
SUMMARY:NICET Level 1 Prep Course
DESCRIPTION:Virtual live class – Four days/two hours each evening\nAugust 21-24\, 2023\n5:00 PM – 7:00 PM \nREGISTER\n \nCourse will help prepare you for the NICET Level 1 Fire Alarm Systems certification exam. This course will cover: \n\nNFPA 72 review of relevant chapters\nIntroduction to NFPA 70\nBasic electronics and OSHA\nHow to study for and take a test.\nReview of how to navigate code books\nTaking practice exams.\nHow to navigate the NICET website.\n\nStudents will need to purchase the NTC Red Book in order to take this class. The book is available at NTC Bookstore | National Training Center. (IECC does not sell this book.) Students may also find the Orange Book and Field Notes helpful. \nStudents will need their NFPA 70 2014 and NFPA 72 2016 during class. \nCost\n\nEarly Registration: $470.00\nStandard Registration: $500.00\nMembers receive 25% discount\n\nCancellation deadline is 14 business days prior to seminar. All cancellations received after deadline and/or no-shows will be billed and/or are non-refundable. IEC Chesapeake A&T has the right to cancel class if less than 12 students register. \nAbout the Instructor:\nBernie Grubb has worked in the fire alarm industry for over 15 years and is NICET Level III certified as well as certified to program Kidde (VS)\, Siemens Desigo\, Silent Knight/Farenhyt\, FireLite\, and Bosch.  His resume includes large commercial install\, troubleshooting\, programming\, maintenance\, design\, project management\, and estimating with experience in  all the major brands; Edwards/Kidde\, Simplex\, Siemens\, Notifier\, Silent Knight/Farenhyt\, FCI Gamewell\, Bosch\, and FireLite.  Additionally Mr. Grubb is knowledgeable in NFPA 70\, NFPA 72\, NFPA 101\, IBC codes and the UL certification processes for fire alarm systems.
URL:https://www.iecchesapeake.com/event/nicet-level-1-prep-course-2/2023-08-21/
LOCATION:IEC Chesapeake\, 8751 Freestate Drive\, Suite 250\, Laurel\, MD\, 20723\, United States
END:VEVENT
BEGIN:VEVENT
DTSTART;TZID=America/New_York:20230822T170000
DTEND;TZID=America/New_York:20230822T190000
DTSTAMP:20260425T071310
CREATED:20230502T143118Z
LAST-MODIFIED:20230510T195322Z
UID:10001469-1692723600-1692730800@www.iecchesapeake.com
SUMMARY:NICET Level 1 Prep Course
DESCRIPTION:Virtual live class – Four days/two hours each evening\nAugust 21-24\, 2023\n5:00 PM – 7:00 PM \nREGISTER\n \nCourse will help prepare you for the NICET Level 1 Fire Alarm Systems certification exam. This course will cover: \n\nNFPA 72 review of relevant chapters\nIntroduction to NFPA 70\nBasic electronics and OSHA\nHow to study for and take a test.\nReview of how to navigate code books\nTaking practice exams.\nHow to navigate the NICET website.\n\nStudents will need to purchase the NTC Red Book in order to take this class. The book is available at NTC Bookstore | National Training Center. (IECC does not sell this book.) Students may also find the Orange Book and Field Notes helpful. \nStudents will need their NFPA 70 2014 and NFPA 72 2016 during class. \nCost\n\nEarly Registration: $470.00\nStandard Registration: $500.00\nMembers receive 25% discount\n\nCancellation deadline is 14 business days prior to seminar. All cancellations received after deadline and/or no-shows will be billed and/or are non-refundable. IEC Chesapeake A&T has the right to cancel class if less than 12 students register. \nAbout the Instructor:\nBernie Grubb has worked in the fire alarm industry for over 15 years and is NICET Level III certified as well as certified to program Kidde (VS)\, Siemens Desigo\, Silent Knight/Farenhyt\, FireLite\, and Bosch.  His resume includes large commercial install\, troubleshooting\, programming\, maintenance\, design\, project management\, and estimating with experience in  all the major brands; Edwards/Kidde\, Simplex\, Siemens\, Notifier\, Silent Knight/Farenhyt\, FCI Gamewell\, Bosch\, and FireLite.  Additionally Mr. Grubb is knowledgeable in NFPA 70\, NFPA 72\, NFPA 101\, IBC codes and the UL certification processes for fire alarm systems.
URL:https://www.iecchesapeake.com/event/nicet-level-1-prep-course-2/2023-08-22/
LOCATION:IEC Chesapeake\, 8751 Freestate Drive\, Suite 250\, Laurel\, MD\, 20723\, United States
END:VEVENT
BEGIN:VEVENT
DTSTART;TZID=America/New_York:20230823T170000
DTEND;TZID=America/New_York:20230823T190000
DTSTAMP:20260425T071310
CREATED:20230502T143118Z
LAST-MODIFIED:20230510T195322Z
UID:10001470-1692810000-1692817200@www.iecchesapeake.com
SUMMARY:NICET Level 1 Prep Course
DESCRIPTION:Virtual live class – Four days/two hours each evening\nAugust 21-24\, 2023\n5:00 PM – 7:00 PM \nREGISTER\n \nCourse will help prepare you for the NICET Level 1 Fire Alarm Systems certification exam. This course will cover: \n\nNFPA 72 review of relevant chapters\nIntroduction to NFPA 70\nBasic electronics and OSHA\nHow to study for and take a test.\nReview of how to navigate code books\nTaking practice exams.\nHow to navigate the NICET website.\n\nStudents will need to purchase the NTC Red Book in order to take this class. The book is available at NTC Bookstore | National Training Center. (IECC does not sell this book.) Students may also find the Orange Book and Field Notes helpful. \nStudents will need their NFPA 70 2014 and NFPA 72 2016 during class. \nCost\n\nEarly Registration: $470.00\nStandard Registration: $500.00\nMembers receive 25% discount\n\nCancellation deadline is 14 business days prior to seminar. All cancellations received after deadline and/or no-shows will be billed and/or are non-refundable. IEC Chesapeake A&T has the right to cancel class if less than 12 students register. \nAbout the Instructor:\nBernie Grubb has worked in the fire alarm industry for over 15 years and is NICET Level III certified as well as certified to program Kidde (VS)\, Siemens Desigo\, Silent Knight/Farenhyt\, FireLite\, and Bosch.  His resume includes large commercial install\, troubleshooting\, programming\, maintenance\, design\, project management\, and estimating with experience in  all the major brands; Edwards/Kidde\, Simplex\, Siemens\, Notifier\, Silent Knight/Farenhyt\, FCI Gamewell\, Bosch\, and FireLite.  Additionally Mr. Grubb is knowledgeable in NFPA 70\, NFPA 72\, NFPA 101\, IBC codes and the UL certification processes for fire alarm systems.
URL:https://www.iecchesapeake.com/event/nicet-level-1-prep-course-2/2023-08-23/
LOCATION:IEC Chesapeake\, 8751 Freestate Drive\, Suite 250\, Laurel\, MD\, 20723\, United States
END:VEVENT
BEGIN:VEVENT
DTSTART;TZID=America/New_York:20230826T080000
DTEND;TZID=America/New_York:20230826T143000
DTSTAMP:20260425T071310
CREATED:20230530T181619Z
LAST-MODIFIED:20230628T143547Z
UID:10001494-1693036800-1693060200@www.iecchesapeake.com
SUMMARY:48 Hour Fire Alarm Class Dulles
DESCRIPTION:A 48 hour course that provides hands-on training.\nCLASS IS POSTPONED. WE WILL RESCHEDULE SOON. \nABC Virginia\n42680 Trade West Drive\nDulles\, VA 20166 \n  \n \nIEC National Fire Alarm Systems Curriculum.  This Course is based on Requirements specified in NFPA’s National Fire Alarm Code (2019)– NFPA 72. \nThis unique and informative course will provide qualified journeyman electricians with the knowledge necessary to work on fire alarm systems. The ESTS Fire Alarm I Course is designed for experienced electricians\, such as those specializing in fire alarm systems and limited energy. Taking the course in conjunction with NFPA 72 (2019) will help prepare installers to sit for NICET certification. \nStudents will need to bring The NFPA 72 (2019) and Hand Tools for Meter to Circuit Testing & Lab Sessions. \nCourse Topics \n\nBasic functions of Fire Alarm systems\nTypes of Fire Alarm systems\nFire Alarm Control Systems\nFire Alarm Control Units\nInitiation Devices\nNotification Devices\nFire Alarm Circuits & Pathways\nSupervising Station Alarm systems\nFire Alarm systems –Inspection\, testing and maintenance\nFalse Alarm Prevention\nCircuit Testing & Lab\nEmergency Communication systems\n\nCost\n\nEarly Registration: $1\,282.50\nStandard Registration: $1\,425.00\nMembers receive 25% discount\n\nCancellation deadline is 14 business days prior to seminar. All cancellations received after deadline and/or no-shows will be billed and/or are non-refundable. IEC Chesapeake A&T has the right to cancel class if less than 12 students register. \nAbout the Instructor:\nBernie Grubb has worked in the fire alarm industry for over 15 years and is NICET Level III certified as well as certified to program Kidde (VS)\, Siemens Desigo\, Silent Knight/Farenhyt\, FireLite\, and Bosch.  His resume includes large commercial install\, troubleshooting\, programming\, maintenance\, design\, project management\, and estimating with experience in  all the major brands; Edwards/Kidde\, Simplex\, Siemens\, Notifier\, Silent Knight/Farenhyt\, FCI Gamewell\, Bosch\, and FireLite.  Additionally Mr. Grubb is knowledgeable in NFPA 70\, NFPA 72\, NFPA 101\, IBC codes and the UL certification processes for fire alarm systems. \n 
URL:https://www.iecchesapeake.com/event/48-hour-fire-alarm-class-dulles/2023-08-26/
LOCATION:ABC Virginia Chapter\, 42680 Trade West Drive\, Dulles\, VA\, 20166
END:VEVENT
END:VCALENDAR