BEGIN:VCALENDAR
VERSION:2.0
PRODID:-//Independent Electrical Contractors Chesapeake - ECPv6.15.20//NONSGML v1.0//EN
CALSCALE:GREGORIAN
METHOD:PUBLISH
X-WR-CALNAME:Independent Electrical Contractors Chesapeake
X-ORIGINAL-URL:https://www.iecchesapeake.com
X-WR-CALDESC:Events for Independent Electrical Contractors Chesapeake
REFRESH-INTERVAL;VALUE=DURATION:PT1H
X-Robots-Tag:noindex
X-PUBLISHED-TTL:PT1H
BEGIN:VTIMEZONE
TZID:America/New_York
BEGIN:DAYLIGHT
TZOFFSETFROM:-0500
TZOFFSETTO:-0400
TZNAME:EDT
DTSTART:20190310T070000
END:DAYLIGHT
BEGIN:STANDARD
TZOFFSETFROM:-0400
TZOFFSETTO:-0500
TZNAME:EST
DTSTART:20191103T060000
END:STANDARD
BEGIN:DAYLIGHT
TZOFFSETFROM:-0500
TZOFFSETTO:-0400
TZNAME:EDT
DTSTART:20200308T070000
END:DAYLIGHT
BEGIN:STANDARD
TZOFFSETFROM:-0400
TZOFFSETTO:-0500
TZNAME:EST
DTSTART:20201101T060000
END:STANDARD
BEGIN:DAYLIGHT
TZOFFSETFROM:-0500
TZOFFSETTO:-0400
TZNAME:EDT
DTSTART:20210314T070000
END:DAYLIGHT
BEGIN:STANDARD
TZOFFSETFROM:-0400
TZOFFSETTO:-0500
TZNAME:EST
DTSTART:20211107T060000
END:STANDARD
END:VTIMEZONE
BEGIN:VEVENT
DTSTART;TZID=America/New_York:20200811T113000
DTEND;TZID=America/New_York:20200811T123000
DTSTAMP:20260422T094252
CREATED:20200805T163949Z
LAST-MODIFIED:20200805T163949Z
UID:10000944-1597145400-1597149000@www.iecchesapeake.com
SUMMARY:Webinar - Aluminum vs Steel?
DESCRIPTION:Patriot Industries presents the advantages of using Rigid Aluminum Conduit as a direct replacement for Rigid Galvanized Steel Conduit in above ground applications. Rigid Aluminum Conduit provides high corrosion resistance\, costs less\, installs faster\, and provides an overall Better Conduit Experience. \nTuesday August 11th at 11:30am\nSeminar link: https://meet.google.com/uuk-qfbf-irh
URL:https://www.iecchesapeake.com/event/webinar-aluminum-vs-steel/
LOCATION:Online\, MD\, United States
END:VEVENT
END:VCALENDAR