BEGIN:VCALENDAR
VERSION:2.0
PRODID:-//Independent Electrical Contractors Chesapeake - ECPv6.15.20//NONSGML v1.0//EN
CALSCALE:GREGORIAN
METHOD:PUBLISH
X-ORIGINAL-URL:https://www.iecchesapeake.com
X-WR-CALDESC:Events for Independent Electrical Contractors Chesapeake
REFRESH-INTERVAL;VALUE=DURATION:PT1H
X-Robots-Tag:noindex
X-PUBLISHED-TTL:PT1H
BEGIN:VTIMEZONE
TZID:America/New_York
BEGIN:DAYLIGHT
TZOFFSETFROM:-0500
TZOFFSETTO:-0400
TZNAME:EDT
DTSTART:20190310T070000
END:DAYLIGHT
BEGIN:STANDARD
TZOFFSETFROM:-0400
TZOFFSETTO:-0500
TZNAME:EST
DTSTART:20191103T060000
END:STANDARD
BEGIN:DAYLIGHT
TZOFFSETFROM:-0500
TZOFFSETTO:-0400
TZNAME:EDT
DTSTART:20200308T070000
END:DAYLIGHT
BEGIN:STANDARD
TZOFFSETFROM:-0400
TZOFFSETTO:-0500
TZNAME:EST
DTSTART:20201101T060000
END:STANDARD
BEGIN:DAYLIGHT
TZOFFSETFROM:-0500
TZOFFSETTO:-0400
TZNAME:EDT
DTSTART:20210314T070000
END:DAYLIGHT
BEGIN:STANDARD
TZOFFSETFROM:-0400
TZOFFSETTO:-0500
TZNAME:EST
DTSTART:20211107T060000
END:STANDARD
END:VTIMEZONE
BEGIN:VEVENT
DTSTART;TZID=America/New_York:20200826T110000
DTEND;TZID=America/New_York:20200826T120000
DTSTAMP:20260422T104130
CREATED:20200722T193138Z
LAST-MODIFIED:20200805T165832Z
UID:10000943-1598439600-1598443200@www.iecchesapeake.com
SUMMARY:Signify Lighting (Formally Philips) Light To Go Product Overview Training
DESCRIPTION:Please join us for an overview of the Signify Indoor and Outdoor LED Luminaires\, Light to Go\, Stocking Product Portfolio. During this hour we will review each of the products within the portfolio at a high level giving the key features and benefits. We look forward to sharing with the teams what Signify has to offer. \nPresenter: Juli Megonnell\, Signify Lighting Product Manager \nJoin Microsoft Teams Meeting \nLearn more about Teams | Meeting options \nVisit above HELP link to learn about optimizing your Teams call for best experience \nHelp | Legal \n 
URL:https://www.iecchesapeake.com/event/signify-lighting-formally-philips-light-to-go-product-overview-training/
LOCATION:Online\, MD\, United States
END:VEVENT
END:VCALENDAR