BEGIN:VCALENDAR
VERSION:2.0
PRODID:-//Independent Electrical Contractors Chesapeake - ECPv6.15.20//NONSGML v1.0//EN
CALSCALE:GREGORIAN
METHOD:PUBLISH
X-ORIGINAL-URL:https://www.iecchesapeake.com
X-WR-CALDESC:Events for Independent Electrical Contractors Chesapeake
REFRESH-INTERVAL;VALUE=DURATION:PT1H
X-Robots-Tag:noindex
X-PUBLISHED-TTL:PT1H
BEGIN:VTIMEZONE
TZID:America/New_York
BEGIN:DAYLIGHT
TZOFFSETFROM:-0500
TZOFFSETTO:-0400
TZNAME:EDT
DTSTART:20200308T070000
END:DAYLIGHT
BEGIN:STANDARD
TZOFFSETFROM:-0400
TZOFFSETTO:-0500
TZNAME:EST
DTSTART:20201101T060000
END:STANDARD
BEGIN:DAYLIGHT
TZOFFSETFROM:-0500
TZOFFSETTO:-0400
TZNAME:EDT
DTSTART:20210314T070000
END:DAYLIGHT
BEGIN:STANDARD
TZOFFSETFROM:-0400
TZOFFSETTO:-0500
TZNAME:EST
DTSTART:20211107T060000
END:STANDARD
BEGIN:DAYLIGHT
TZOFFSETFROM:-0500
TZOFFSETTO:-0400
TZNAME:EDT
DTSTART:20220313T070000
END:DAYLIGHT
BEGIN:STANDARD
TZOFFSETFROM:-0400
TZOFFSETTO:-0500
TZNAME:EST
DTSTART:20221106T060000
END:STANDARD
END:VTIMEZONE
BEGIN:VEVENT
DTSTART;TZID=America/New_York:20211001T073000
DTEND;TZID=America/New_York:20211001T153000
DTSTAMP:20260422T035521
CREATED:20201028T123450Z
LAST-MODIFIED:20220914T223150Z
UID:10001018-1633073400-1633102200@www.iecchesapeake.com
SUMMARY:Precon
DESCRIPTION:Intended audience: Estimators\, Business Development\, Salespeople\, PMs\, Foremen\, Fabrication Managers\, Project Administrators\, Schedulers\, Operations Managers \nThis program is intended to be an intensive and comprehensive approach to gaining\, increasing and/or refining skills critical to creating winning preconstruction plans. \nREGISTER\nClass dates are Friday October 1 and Saturday October 2\, 7:30 AM – 3:30 PM \nA two-day\, 16 hour live class\n \nTopics include but not limited to: \nProposals                         Triangulation \nProject Plan                     Critical Management Tools \nResource Planning & Scheduling \nPre-Estimating\, Budgeting & Conceptual Sizing & Pricing \nCost\n\nEarly Registration: $972.50\nStandard Registration: $1017.50\nMembers receive 25% discount\n\nCancellation deadline is 14 business days prior to seminar. All cancellations received after deadline and/or no-shows will be billed and/or are non-refundable. IEC Chesapeake A&T has the right to cancel class if less than 20 students register. \nAbout the Instructor: \nKirk Alter has more that 30 years experience as a contractor and educator in the electrical and mechanical industries. He has worked his way through the industry as a Foreman\, Superintendent\, Project Manager\, Estimator\, Operations Manager\, and Vice President of a $120M firm. Since 1995 Kirk has developed University level Undergraduate and Continuing Education Programs for electrical and mechanical contractors. Kirk has provided instruction for IEC chapters nationwide\, ABC\, and Purdue University.
URL:https://www.iecchesapeake.com/event/precon-2/2021-10-01/
LOCATION:IEC Chesapeake\, 8751 Freestate Drive\, Suite 250\, Laurel\, MD\, 20723\, United States
END:VEVENT
BEGIN:VEVENT
DTSTART;TZID=America/New_York:20211002T073000
DTEND;TZID=America/New_York:20211002T153000
DTSTAMP:20260422T035521
CREATED:20201028T123450Z
LAST-MODIFIED:20220914T223150Z
UID:10001019-1633159800-1633188600@www.iecchesapeake.com
SUMMARY:Precon
DESCRIPTION:Intended audience: Estimators\, Business Development\, Salespeople\, PMs\, Foremen\, Fabrication Managers\, Project Administrators\, Schedulers\, Operations Managers \nThis program is intended to be an intensive and comprehensive approach to gaining\, increasing and/or refining skills critical to creating winning preconstruction plans. \nREGISTER\nClass dates are Friday October 1 and Saturday October 2\, 7:30 AM – 3:30 PM \nA two-day\, 16 hour live class\n \nTopics include but not limited to: \nProposals                         Triangulation \nProject Plan                     Critical Management Tools \nResource Planning & Scheduling \nPre-Estimating\, Budgeting & Conceptual Sizing & Pricing \nCost\n\nEarly Registration: $972.50\nStandard Registration: $1017.50\nMembers receive 25% discount\n\nCancellation deadline is 14 business days prior to seminar. All cancellations received after deadline and/or no-shows will be billed and/or are non-refundable. IEC Chesapeake A&T has the right to cancel class if less than 20 students register. \nAbout the Instructor: \nKirk Alter has more that 30 years experience as a contractor and educator in the electrical and mechanical industries. He has worked his way through the industry as a Foreman\, Superintendent\, Project Manager\, Estimator\, Operations Manager\, and Vice President of a $120M firm. Since 1995 Kirk has developed University level Undergraduate and Continuing Education Programs for electrical and mechanical contractors. Kirk has provided instruction for IEC chapters nationwide\, ABC\, and Purdue University.
URL:https://www.iecchesapeake.com/event/precon-2/2021-10-02/
LOCATION:IEC Chesapeake\, 8751 Freestate Drive\, Suite 250\, Laurel\, MD\, 20723\, United States
END:VEVENT
END:VCALENDAR