BEGIN:VCALENDAR
VERSION:2.0
PRODID:-//Independent Electrical Contractors Chesapeake - ECPv6.15.20//NONSGML v1.0//EN
CALSCALE:GREGORIAN
METHOD:PUBLISH
X-ORIGINAL-URL:https://www.iecchesapeake.com
X-WR-CALDESC:Events for Independent Electrical Contractors Chesapeake
REFRESH-INTERVAL;VALUE=DURATION:PT1H
X-Robots-Tag:noindex
X-PUBLISHED-TTL:PT1H
BEGIN:VTIMEZONE
TZID:America/New_York
BEGIN:DAYLIGHT
TZOFFSETFROM:-0500
TZOFFSETTO:-0400
TZNAME:EDT
DTSTART:20220313T070000
END:DAYLIGHT
BEGIN:STANDARD
TZOFFSETFROM:-0400
TZOFFSETTO:-0500
TZNAME:EST
DTSTART:20221106T060000
END:STANDARD
BEGIN:DAYLIGHT
TZOFFSETFROM:-0500
TZOFFSETTO:-0400
TZNAME:EDT
DTSTART:20230312T070000
END:DAYLIGHT
BEGIN:STANDARD
TZOFFSETFROM:-0400
TZOFFSETTO:-0500
TZNAME:EST
DTSTART:20231105T060000
END:STANDARD
BEGIN:DAYLIGHT
TZOFFSETFROM:-0500
TZOFFSETTO:-0400
TZNAME:EDT
DTSTART:20240310T070000
END:DAYLIGHT
BEGIN:STANDARD
TZOFFSETFROM:-0400
TZOFFSETTO:-0500
TZNAME:EST
DTSTART:20241103T060000
END:STANDARD
END:VTIMEZONE
BEGIN:VEVENT
DTSTART;TZID=America/New_York:20230419T160000
DTEND;TZID=America/New_York:20230419T190000
DTSTAMP:20260423T044830
CREATED:20230203T163128Z
LAST-MODIFIED:20230203T163128Z
UID:10001099-1681920000-1681930800@www.iecchesapeake.com
SUMMARY:IECC Spring Brewery Event Hosted by E.D. Supply Co.
DESCRIPTION:Spring Brewery Hosted by: \n \nREGISTER
URL:https://www.iecchesapeake.com/event/iecc-spring-brewery-event-hosted-by-e-d-supply-co/
LOCATION:Tall Tales Brewing Company\, 6929 Heron Grove Court \, Parsonsburg\, MD\, 21849
END:VEVENT
END:VCALENDAR